BEGIN:VCALENDAR
VERSION:2.0
PRODID:-//WBON of the Triangle - ECPv6.15.20//NONSGML v1.0//EN
CALSCALE:GREGORIAN
METHOD:PUBLISH
X-WR-CALNAME:WBON of the Triangle
X-ORIGINAL-URL:https://wbontriangle.com
X-WR-CALDESC:Events for WBON of the Triangle
REFRESH-INTERVAL;VALUE=DURATION:PT1H
X-Robots-Tag:noindex
X-PUBLISHED-TTL:PT1H
BEGIN:VTIMEZONE
TZID:UTC
BEGIN:STANDARD
TZOFFSETFROM:+0000
TZOFFSETTO:+0000
TZNAME:UTC
DTSTART:20250101T000000
END:STANDARD
END:VTIMEZONE
BEGIN:VEVENT
DTSTART;TZID=UTC:20260512T113000
DTEND;TZID=UTC:20260512T133000
DTSTAMP:20260422T090417
CREATED:20251203T004213Z
LAST-MODIFIED:20260415T221911Z
UID:8423-1778585400-1778592600@wbontriangle.com
SUMMARY:Kentucky Derby Party
DESCRIPTION:Purchase ticket now \n🌹👒 You’re Invited! WBON of the Triangle Annual Kentucky Derby Party! 👒🌹 \nLadies… it’s time to bring out the hats\, the heels\, the florals\, and the fabulous energy! \nJoin WBON of the Triangle for our highly anticipated Annual Kentucky Derby Party — \nan afternoon filled with sisterhood\, style\, celebration\, and purpose. \nThis is a celebration designed for connection\, community\, and FUN! \n✨ What to Expect:👒 Best Hat & Best Dressed Contests🥂 Signature Mint Juleps & Derby-Inspired Refreshments🎟 Interactive Games & Exciting Prizes📸 Glam Photo Moments with Your Girls💎 Our Annual Silent Auction Fundraiser \nMost importantly\, this event supports our Quarterly Non-Profit Partners right here in our community. \nEvery bid placed in our Silent Auction helps us continue to \nInspire\, Educate\, and Empower while giving back in a meaningful way. \n💝 Want to Support Our Silent Auction?We are currently accepting auction item donations!If you would like to contribute a product\, service\, gift basket\, experience\, or gift card\, please let us know. \n📅 Auction donation cut-off date: First week of May \nThis is your opportunity to showcase your business\, gain visibility\, and make a direct impact in our community. \n🌸 Grab your girlfriends.🌸 Wear your boldest Derby hat.🌸 Come ready to laugh\, connect\, bid\, and celebrate. \nSpots fill quickly — secure your ticket and join us for an unforgettable afternoon of elegance\, excitement\, and empowerment. \nLet’s party with purpose — Derby style! 🏇✨ \n#WBONTriangle #DerbyWithPurpose #WomenSupportingWomen #SilentAuction #InspireEducateEmpower
URL:https://wbontriangle.com/event/kentucky-derby-party/
LOCATION:Prestonwood Country Club\, 300 Prestonwood Parkway\, Cary\, NC\, 27562\, United States
ATTACH;FMTTYPE=image/png:https://wbontriangle.com/wp-content/uploads/2025/12/AB18BB50-A438-4E88-934A-11F87B84EFCC.png
END:VEVENT
END:VCALENDAR